{
 "currentVersion": 11.5,
 "serviceDescription": "This lidar data set includes unclassified swath LAS 1.4 files, classified LAS 1.4 files, hydro-flattened digital elevation models (DEMs), hydro and bridge breaklines, and intensity imagery. Geographic Extent: The AOI includes 7 counties in Southern Missouri, covering approximately 3734 total square miles. Dataset Description: The Missouri 2017 LiDAR - Delivery 4 project called for the planning, acquisition, processing, and derivative products of lidar data to be collected at a nominal pulse spacing (NPS) of 0.7 meters. Project specifications are based on the U.S. Geological Survey National Geospatial Program Base LiDAR Specification, Version 1.2. The data were developed based on a horizontal projection/datum of NAD 1983 (2011), UTM Zone 15N, meters and vertical datum of NAVD 1988 (GEOID 12B), meters. LiDAR data were delivered as processed Classified LAS 1.4 files formatted to 4428 individual 1,500-meter x 1,500-meter tiles, as tiled intensity imagery, and as tiled bare earth DEMs; all tiled to the same 1,500-meter x 1,500-meter schema. Continuous breaklines were produced in Esri file geodatabase format. Ground Conditions: LiDAR was collected in winter of 2017/2018 and spring of 2018, while no snow was on the ground and rivers were at or below normal levels. In order to post process the LiDAR data to meet task order specifications and meet ASPRS vertical accuracy guidelines, Quantum Spatial, Inc. utilized a total of 231 ground control points that were used to calibrate the LiDAR to known ground locations established throughout the project area. An additional 380 independent accuracy checkpoints, 224 in Bare Earth and Urban landcovers (224 NVA points), 156 in Tall Weeds categories (156 VVA points), were used to assess the vertical accuracy of the data. These checkpoints were not used to calibrate or post process the data.\n\nComplete metadata available at : https://prd-tnm.s3.amazonaws.com/index.html?prefix=StagedProducts/Elevation/metadata/MO_FEMA_R7_North_2017_D18/",
 "name": "FEMANorth_2017_UTM",
 "description": "This lidar data set includes unclassified swath LAS 1.4 files, classified LAS 1.4 files, hydro-flattened digital elevation models (DEMs), hydro and bridge breaklines, and intensity imagery. Geographic Extent: The AOI includes 7 counties in Southern Missouri, covering approximately 3734 total square miles. Dataset Description: The Missouri 2017 LiDAR - Delivery 4 project called for the planning, acquisition, processing, and derivative products of lidar data to be collected at a nominal pulse spacing (NPS) of 0.7 meters. Project specifications are based on the U.S. Geological Survey National Geospatial Program Base LiDAR Specification, Version 1.2. The data were developed based on a horizontal projection/datum of NAD 1983 (2011), UTM Zone 15N, meters and vertical datum of NAVD 1988 (GEOID 12B), meters. LiDAR data were delivered as processed Classified LAS 1.4 files formatted to 4428 individual 1,500-meter x 1,500-meter tiles, as tiled intensity imagery, and as tiled bare earth DEMs; all tiled to the same 1,500-meter x 1,500-meter schema. Continuous breaklines were produced in Esri file geodatabase format. Ground Conditions: LiDAR was collected in winter of 2017/2018 and spring of 2018, while no snow was on the ground and rivers were at or below normal levels. In order to post process the LiDAR data to meet task order specifications and meet ASPRS vertical accuracy guidelines, Quantum Spatial, Inc. utilized a total of 231 ground control points that were used to calibrate the LiDAR to known ground locations established throughout the project area. An additional 380 independent accuracy checkpoints, 224 in Bare Earth and Urban landcovers (224 NVA points), 156 in Tall Weeds categories (156 VVA points), were used to assess the vertical accuracy of the data. These checkpoints were not used to calibrate or post process the data.\n\nComplete metadata available at : https://prd-tnm.s3.amazonaws.com/index.html?prefix=StagedProducts/Elevation/metadata/MO_FEMA_R7_North_2017_D18/",
 "extent": {
  "xmin": 444000,
  "ymin": 4075500,
  "xmax": 754500,
  "ymax": 4287000,
  "spatialReference": {
   "wkid": 102384,
   "latestWkid": 6344
  }
 },
 "initialExtent": {
  "xmin": 444000,
  "ymin": 4075500,
  "xmax": 754500,
  "ymax": 4287000,
  "spatialReference": {
   "wkid": 102384,
   "latestWkid": 6344
  }
 },
 "fullExtent": {
  "xmin": 444000,
  "ymin": 4075500,
  "xmax": 754500,
  "ymax": 4287000,
  "spatialReference": {
   "wkid": 102384,
   "latestWkid": 6344
  }
 },
 "sortableFields": "",
 "bandCount": 1,
 "pixelType": "F32",
 "minValues": [
  119.20475769042969
 ],
 "maxValues": [
  540.0241088867188
 ],
 "meanValues": [
  299.44369913447633
 ],
 "stdvValues": [
  59.782480670078826
 ],
 "serviceProperties": "Center<\/MosaicMethod>First<\/MosaicOperator>true<\/SortAscending><\/LockImageID><\/TileOrderField>0<\/TileOrderBase>0.000000<\/AvgImageSpacingX>0.000000<\/AvgImageSpacingY>0.0<\/ViewPointX>0.0<\/ViewPointY>0.0<\/ViewPointDefShiftX>0.0<\/ViewPointDefShiftY>None<\/CompressionMethod>75<\/CompressionQuality>0.010000<\/CompressionTolerance>Bilinear<\/SamplingMethod><\/ImageServiceProperties><\/ImageServer>",
 "allowedFields": "",
 "hasMultidimensions": false,
 "pixelSizeX": 1,
 "pixelSizeY": 1,
 "meanPixelSize": 1,
 "datasetFormat": "FGDBR",
 "uncompressedSize": 262683000000,
 "blockWidth": 128,
 "blockHeight": 128,
 "compressionType": "LZ77",
 "bandNames": [
  "Band_1"
 ],
 "allowCopy": true,
 "allowAnalysis": true,
 "itemAccess": false,
 "inspectionCapabilities": "",
 "minPixelSize": 0,
 "maxPixelSize": 0,
 "copyrightText": "",
 "serviceDataType": "esriImageServiceDataTypeGeneric",
 "serviceSourceType": "esriImageServiceSourceTypeDataset",
 "objectIdField": "",
 "fields": [],
 "capabilities": "Mensuration,Image,Metadata",
 "defaultMosaicMethod": "Center",
 "allowedMosaicMethods": "",
 "sortField": "",
 "sortValue": null,
 "sortAscending": true,
 "mosaicOperator": "First",
 "defaultCompressionQuality": 75,
 "defaultResamplingMethod": "Bilinear",
 "maxImageHeight": 4100,
 "maxImageWidth": 15000,
 "allowRasterFunction": true,
 "rasterFunctionInfos": [
  {
   "name": "None",
   "description": "",
   "help": ""
  }
 ],
 "rasterTypeInfos": [
  {
   "name": "Raster Dataset",
   "description": "Supports all ArcGIS Raster Datasets",
   "help": ""
  }
 ],
 "mensurationCapabilities": "Basic",
 "hasHistograms": true,
 "hasColormap": false,
 "hasRasterAttributeTable": false,
 "minScale": 0,
 "maxScale": 0,
 "exportTilesAllowed": false,
 "supportsStatistics": false,
 "supportsAdvancedQueries": false,
 "editFieldsInfo": null,
 "ownershipBasedAccessControlForRasters": null,
 "allowComputeTiePoints": false,
 "useStandardizedQueries": true,
 "advancedQueryCapabilities": {
  "useStandardizedQueries": true,
  "supportsStatistics": false,
  "supportsOrderBy": false,
  "supportsDistinct": false,
  "supportsPagination": false
 },
 "spatialReference": {
  "wkid": 102384,
  "latestWkid": 6344
 },
 "resampling": false
}
