{
 "currentVersion": 11.5,
 "serviceDescription": "This task order is for Planning, Acquisition, processing, and derivative products of lidar data to be collected at an aggregate nominal pulse spacing (ANPS) of 0.7 meters, including overlap. Lidar data and derivative products produced in compliance with this task order are based on the r Base Specification Version 1.2, which are incorporated by reference to this task order. This task order requests fall/winter 2017/18 LiDAR surveys to be collected over 8 counties in south Missouri. The 8 counties are: Barry, Douglas, Howell, McDonald, Oregon, Ozark, Webster, and Wright. This AOI covers approximately 5,715 square miles. This project will require hydro-flattening. Data set Description: This data set consists of LiDAR point cloud LAS swath files and tiled Las files. Each LAS file contains LiDAR point information, which has been calibrated, controlled, and classified. Each file represents a separate swath of LiDAR. Ground Conditions: water at normal levels; no unusual inundation; no snow; leaf off How the Withheld Points are Identified: Withheld (ignore) points were identified in the files using the standard LAS Withheld bit. Class Code:1 Class Item:Undetermined/Unclassified Class Code:2 Class Item:Bare Earth Class Code:7 Class Item:Low Noise Class Code:9 Class Item:Water Class Code:10 Class Item:Rail (Breakline buffer) Class Code:17 Class Item:Bridges Class Code:18 Class Item:High Noise \nThis project will support the FEMA Risk MAP program. The primary purpose of the lidar survey was to establish measurements of the bare earth surface, as well as top surface feature data for providing geometric inputs for modeling, other numerical modeling and economic related assessments.\n\nComplete metadata available at : https://prd-tnm.s3.amazonaws.com/index.html?prefix=StagedProducts/Elevation/metadata/MO_FEMA_R7_South_2017_D18/",
 "name": "MO_FEMASouth_2017_D18_DEM_UTM",
 "description": "This task order is for Planning, Acquisition, processing, and derivative products of lidar data to be collected at an aggregate nominal pulse spacing (ANPS) of 0.7 meters, including overlap. Lidar data and derivative products produced in compliance with this task order are based on the r Base Specification Version 1.2, which are incorporated by reference to this task order. This task order requests fall/winter 2017/18 LiDAR surveys to be collected over 8 counties in south Missouri. The 8 counties are: Barry, Douglas, Howell, McDonald, Oregon, Ozark, Webster, and Wright. This AOI covers approximately 5,715 square miles. This project will require hydro-flattening. Data set Description: This data set consists of LiDAR point cloud LAS swath files and tiled Las files. Each LAS file contains LiDAR point information, which has been calibrated, controlled, and classified. Each file represents a separate swath of LiDAR. Ground Conditions: water at normal levels; no unusual inundation; no snow; leaf off How the Withheld Points are Identified: Withheld (ignore) points were identified in the files using the standard LAS Withheld bit. Class Code:1 Class Item:Undetermined/Unclassified Class Code:2 Class Item:Bare Earth Class Code:7 Class Item:Low Noise Class Code:9 Class Item:Water Class Code:10 Class Item:Rail (Breakline buffer) Class Code:17 Class Item:Bridges Class Code:18 Class Item:High Noise \nThis project will support the FEMA Risk MAP program. The primary purpose of the lidar survey was to establish measurements of the bare earth surface, as well as top surface feature data for providing geometric inputs for modeling, other numerical modeling and economic related assessments.\n\nComplete metadata available at : https://prd-tnm.s3.amazonaws.com/index.html?prefix=StagedProducts/Elevation/metadata/MO_FEMA_R7_South_2017_D18/",
 "extent": {
  "xmin": 355009,
  "ymin": 4039071.3242496895,
  "xmax": 668147.7325233375,
  "ymax": 4149050,
  "spatialReference": {
   "wkid": 26915,
   "latestWkid": 26915
  }
 },
 "initialExtent": {
  "xmin": 355009,
  "ymin": 4039071.3242496895,
  "xmax": 668147.7325233375,
  "ymax": 4149050,
  "spatialReference": {
   "wkid": 26915,
   "latestWkid": 26915
  }
 },
 "fullExtent": {
  "xmin": 355009,
  "ymin": 4039071.3242496895,
  "xmax": 668147.7325233375,
  "ymax": 4149050,
  "spatialReference": {
   "wkid": 26915,
   "latestWkid": 26915
  }
 },
 "sortableFields": "MinPS,MaxPS,LowPS,HighPS,CenterX,CenterY,ZOrder,Shape_Length,Shape_Area",
 "bandCount": 1,
 "pixelType": "F32",
 "minValues": [
  108.7577896118164
 ],
 "maxValues": [
  529.1600952148438
 ],
 "meanValues": [
  339.67422689848473
 ],
 "stdvValues": [
  75.41054839745868
 ],
 "serviceProperties": "NorthWest<\/MosaicMethod>First<\/MosaicOperator>true<\/SortAscending><\/LockImageID>Name<\/TileOrderField>0<\/TileOrderBase>600.000000<\/AvgImageSpacingX>300.000000<\/AvgImageSpacingY>0.0<\/ViewPointX>0.0<\/ViewPointY>0.0<\/ViewPointDefShiftX>0.0<\/ViewPointDefShiftY>None<\/CompressionMethod>75<\/CompressionQuality>0.010000<\/CompressionTolerance>Bilinear<\/SamplingMethod><\/ImageServiceProperties><\/ImageServer>",
 "allowedFields": "Name,MinPS,MaxPS,LowPS,HighPS,Tag,GroupName,ProductName,CenterX,CenterY,ZOrder,Shape_Length,Shape_Area",
 "hasMultidimensions": false,
 "pixelSizeX": 0.9978195751214458,
 "pixelSizeY": 0.9978195751214449,
 "meanPixelSize": 0.9978195751214454,
 "datasetFormat": "AMD",
 "uncompressedSize": 138357028948,
 "blockWidth": 2048,
 "blockHeight": 256,
 "compressionType": "None",
 "bandNames": [
  "Band_1"
 ],
 "allowCopy": true,
 "allowAnalysis": true,
 "itemAccess": false,
 "inspectionCapabilities": "",
 "minPixelSize": 0,
 "maxPixelSize": 0,
 "copyrightText": "",
 "serviceDataType": "esriImageServiceDataTypeGeneric",
 "serviceSourceType": "esriImageServiceSourceTypeMosaicDataset",
 "objectIdField": "OBJECTID",
 "fields": [
  {
   "name": "OBJECTID",
   "type": "esriFieldTypeOID",
   "alias": "OBJECTID",
   "domain": null
  },
  {
   "name": "Shape",
   "type": "esriFieldTypeGeometry",
   "alias": "Shape",
   "domain": null
  },
  {
   "name": "Name",
   "type": "esriFieldTypeString",
   "alias": "Name",
   "domain": null,
   "length": 200
  },
  {
   "name": "MinPS",
   "type": "esriFieldTypeDouble",
   "alias": "MinPS",
   "domain": null
  },
  {
   "name": "MaxPS",
   "type": "esriFieldTypeDouble",
   "alias": "MaxPS",
   "domain": null
  },
  {
   "name": "LowPS",
   "type": "esriFieldTypeDouble",
   "alias": "LowPS",
   "domain": null
  },
  {
   "name": "HighPS",
   "type": "esriFieldTypeDouble",
   "alias": "HighPS",
   "domain": null
  },
  {
   "name": "Category",
   "type": "esriFieldTypeInteger",
   "alias": "Category",
   "domain": {
    "type": "codedValue",
    "name": "MosaicCatalogItemCategoryDomain",
    "description": "Catalog item categories.",
    "codedValues": [
     {
      "name": "Unknown",
      "code": 0
     },
     {
      "name": "Primary",
      "code": 1
     },
     {
      "name": "Overview",
      "code": 2
     },
     {
      "name": "Unprocessed Overview",
      "code": 3
     },
     {
      "name": "Partial Overview",
      "code": 4
     },
     {
      "name": "Inactive",
      "code": 5
     },
     {
      "name": "Uploaded",
      "code": 253
     },
     {
      "name": "Incomplete",
      "code": 254
     },
     {
      "name": "Custom",
      "code": 255
     }
    ],
    "mergePolicy": "esriMPTDefaultValue",
    "splitPolicy": "esriSPTDefaultValue"
   }
  },
  {
   "name": "Tag",
   "type": "esriFieldTypeString",
   "alias": "Tag",
   "domain": null,
   "length": 100
  },
  {
   "name": "GroupName",
   "type": "esriFieldTypeString",
   "alias": "GroupName",
   "domain": null,
   "length": 100
  },
  {
   "name": "ProductName",
   "type": "esriFieldTypeString",
   "alias": "ProductName",
   "domain": null,
   "length": 100
  },
  {
   "name": "CenterX",
   "type": "esriFieldTypeDouble",
   "alias": "CenterX",
   "domain": null
  },
  {
   "name": "CenterY",
   "type": "esriFieldTypeDouble",
   "alias": "CenterY",
   "domain": null
  },
  {
   "name": "ZOrder",
   "type": "esriFieldTypeInteger",
   "alias": "ZOrder",
   "domain": null
  },
  {
   "name": "Shape_Length",
   "type": "esriFieldTypeDouble",
   "alias": "Shape_Length",
   "domain": null
  },
  {
   "name": "Shape_Area",
   "type": "esriFieldTypeDouble",
   "alias": "Shape_Area",
   "domain": null
  }
 ],
 "capabilities": "Catalog,Image,Metadata",
 "defaultMosaicMethod": "Northwest",
 "allowedMosaicMethods": "NorthWest,Center,LockRaster,ByAttribute,Nadir,Viewpoint,Seamline,None",
 "sortField": "",
 "sortValue": null,
 "sortAscending": true,
 "mosaicOperator": "First",
 "maxDownloadSizeLimit": 2048,
 "defaultCompressionQuality": 75,
 "defaultResamplingMethod": "Bilinear",
 "maxImageHeight": 4100,
 "maxImageWidth": 15000,
 "maxRecordCount": 1000,
 "maxDownloadImageCount": 20,
 "maxMosaicImageCount": 20,
 "allowRasterFunction": true,
 "rasterFunctionInfos": [
  {
   "name": "None",
   "description": "",
   "help": ""
  }
 ],
 "rasterTypeInfos": [
  {
   "name": "Raster Dataset",
   "description": "Supports all ArcGIS Raster Datasets",
   "help": ""
  }
 ],
 "mensurationCapabilities": "None",
 "hasHistograms": true,
 "hasColormap": false,
 "hasRasterAttributeTable": false,
 "minScale": 0,
 "maxScale": 0,
 "exportTilesAllowed": false,
 "supportsStatistics": true,
 "supportsAdvancedQueries": true,
 "editFieldsInfo": null,
 "ownershipBasedAccessControlForRasters": null,
 "allowComputeTiePoints": false,
 "useStandardizedQueries": true,
 "advancedQueryCapabilities": {
  "useStandardizedQueries": true,
  "supportsStatistics": true,
  "supportsOrderBy": true,
  "supportsDistinct": true,
  "supportsPagination": true
 },
 "spatialReference": {
  "wkid": 26915,
  "latestWkid": 26915
 },
 "resampling": false
}
