{
 "currentVersion": 11.5,
 "serviceDescription": "USGS Task Order MO_Saint Louis Lidar_2017_B17 (USGS Task Order Number G17PD00237). This task is for a high resolution data set of lidar covering approximately 626 square miles located in St. Louis, Missouri. The lidar data was acquired and processed in compliance with U.S. Geological Survey National Geospatial Program Lidar Base Specification version 1.2. This task required the lidar data to be collected at a nominal pulse spacing (NPS) of 0.71 meters (QL2). The data was delivered in NAD 1983(2011)UTM Zone 15N, NAVD88 Geoid12B, meters. Final products include: LAS Swath data ASPRS 1.4, classified LAS tiles ASPRS 1.4, bare-earth DEM raster tiles in Erdas IMG format, Intensity raster tiles in Erdas IMG format and hydro-flattened breaklines projectwide in ESRI format. Tiled deliverable products conform to 1,500m x 1,500m tiling scheme. LiDAR-only acquisition LiDAR checkpoints / calibration control LiDAR post-processing LiDAR classification (ASPRS LAS 1.4) Hydro-flattening breakline collection Sensor Optech Galaxy Deliverables: Deliverables Minimum standards as outlined in Task Order G17PD00237 Raw LiDAR point cloud Fully compliant ASPRS LAS 1.4, point record format 6, 7, 9 or 10 Calibrated By swath Intensity values normalized to 16-bit FGDC-compliant metadata Classified LiDAR point cloud Fully compliant ASPRS LAS 1.4, point record format 6, 7, 9 or 10 By tile Intensity values normalized to 16-bit FGDC-compliant metadata Bare-earth DEM 1m cell size 32-bit DEM development in ERDAS IMG format Bare-earth (hydro-flattened) Culverts will not be removed from the DEMs Bridges will be removed from the DEMs By tile Hydro-flattened breaklines Project-wide Esri feature class(es) for insertion into file geodatabase FGDC-compliant metadata Intensity Images 1m cell size in ERDAS IMG format By tile FGDC-compliant metadata Control Survey report Esri shapefile format FGDC-compliant metadata (project level) Detailed LiDAR Mapping / Project Report\n\nComplete metadata available here : https://prd-tnm.s3.amazonaws.com/index.html?prefix=StagedProducts/Elevation/metadata/MO__Saint_Louis_Lidar_2017_B17/",
 "name": "MO_StLouis_2017_B17_DEM_UTM",
 "description": "USGS Task Order MO_Saint Louis Lidar_2017_B17 (USGS Task Order Number G17PD00237). This task is for a high resolution data set of lidar covering approximately 626 square miles located in St. Louis, Missouri. The lidar data was acquired and processed in compliance with U.S. Geological Survey National Geospatial Program Lidar Base Specification version 1.2. This task required the lidar data to be collected at a nominal pulse spacing (NPS) of 0.71 meters (QL2). The data was delivered in NAD 1983(2011)UTM Zone 15N, NAVD88 Geoid12B, meters. Final products include: LAS Swath data ASPRS 1.4, classified LAS tiles ASPRS 1.4, bare-earth DEM raster tiles in Erdas IMG format, Intensity raster tiles in Erdas IMG format and hydro-flattened breaklines projectwide in ESRI format. Tiled deliverable products conform to 1,500m x 1,500m tiling scheme. LiDAR-only acquisition LiDAR checkpoints / calibration control LiDAR post-processing LiDAR classification (ASPRS LAS 1.4) Hydro-flattening breakline collection Sensor Optech Galaxy Deliverables: Deliverables Minimum standards as outlined in Task Order G17PD00237 Raw LiDAR point cloud Fully compliant ASPRS LAS 1.4, point record format 6, 7, 9 or 10 Calibrated By swath Intensity values normalized to 16-bit FGDC-compliant metadata Classified LiDAR point cloud Fully compliant ASPRS LAS 1.4, point record format 6, 7, 9 or 10 By tile Intensity values normalized to 16-bit FGDC-compliant metadata Bare-earth DEM 1m cell size 32-bit DEM development in ERDAS IMG format Bare-earth (hydro-flattened) Culverts will not be removed from the DEMs Bridges will be removed from the DEMs By tile Hydro-flattened breaklines Project-wide Esri feature class(es) for insertion into file geodatabase FGDC-compliant metadata Intensity Images 1m cell size in ERDAS IMG format By tile FGDC-compliant metadata Control Survey report Esri shapefile format FGDC-compliant metadata (project level) Detailed LiDAR Mapping / Project Report\n\nComplete metadata available here : https://prd-tnm.s3.amazonaws.com/index.html?prefix=StagedProducts/Elevation/metadata/MO__Saint_Louis_Lidar_2017_B17/",
 "extent": {
  "xmin": 686493.4,
  "ymin": 4244140.250998173,
  "xmax": 763423.4,
  "ymax": 4315942.250998173,
  "spatialReference": {
   "wkid": 26915,
   "latestWkid": 26915
  }
 },
 "initialExtent": {
  "xmin": 686493.4,
  "ymin": 4244140.250998173,
  "xmax": 763423.4,
  "ymax": 4315942.250998173,
  "spatialReference": {
   "wkid": 26915,
   "latestWkid": 26915
  }
 },
 "fullExtent": {
  "xmin": 686493.4,
  "ymin": 4244140.250998173,
  "xmax": 763423.4,
  "ymax": 4315942.250998173,
  "spatialReference": {
   "wkid": 26915,
   "latestWkid": 26915
  }
 },
 "sortableFields": "",
 "bandCount": 1,
 "pixelType": "F32",
 "minValues": [
  0
 ],
 "maxValues": [
  249.07952880859375
 ],
 "meanValues": [
  159.50134692603405
 ],
 "stdvValues": [
  24.17984689146822
 ],
 "serviceProperties": "Center<\/MosaicMethod>First<\/MosaicOperator>true<\/SortAscending><\/LockImageID><\/TileOrderField>0<\/TileOrderBase>0.000000<\/AvgImageSpacingX>0.000000<\/AvgImageSpacingY>0.0<\/ViewPointX>0.0<\/ViewPointY>0.0<\/ViewPointDefShiftX>0.0<\/ViewPointDefShiftY>None<\/CompressionMethod>75<\/CompressionQuality>0.010000<\/CompressionTolerance>Bilinear<\/SamplingMethod><\/ImageServiceProperties><\/ImageServer>",
 "allowedFields": "",
 "hasMultidimensions": false,
 "pixelSizeX": 1,
 "pixelSizeY": 1,
 "meanPixelSize": 1,
 "datasetFormat": "FGDBR",
 "uncompressedSize": 22094911440,
 "blockWidth": 128,
 "blockHeight": 128,
 "compressionType": "NONE",
 "bandNames": [
  "Band_1"
 ],
 "allowCopy": true,
 "allowAnalysis": true,
 "itemAccess": false,
 "inspectionCapabilities": "",
 "minPixelSize": 0,
 "maxPixelSize": 0,
 "copyrightText": "",
 "serviceDataType": "esriImageServiceDataTypeGeneric",
 "serviceSourceType": "esriImageServiceSourceTypeDataset",
 "objectIdField": "",
 "fields": [],
 "capabilities": "Mensuration,Image,Metadata",
 "defaultMosaicMethod": "Center",
 "allowedMosaicMethods": "",
 "sortField": "",
 "sortValue": null,
 "sortAscending": true,
 "mosaicOperator": "First",
 "defaultCompressionQuality": 75,
 "defaultResamplingMethod": "Bilinear",
 "maxImageHeight": 4100,
 "maxImageWidth": 15000,
 "allowRasterFunction": true,
 "rasterFunctionInfos": [
  {
   "name": "None",
   "description": "",
   "help": ""
  }
 ],
 "rasterTypeInfos": [
  {
   "name": "Raster Dataset",
   "description": "Supports all ArcGIS Raster Datasets",
   "help": ""
  }
 ],
 "mensurationCapabilities": "Basic",
 "hasHistograms": true,
 "hasColormap": false,
 "hasRasterAttributeTable": false,
 "minScale": 0,
 "maxScale": 0,
 "exportTilesAllowed": false,
 "supportsStatistics": false,
 "supportsAdvancedQueries": false,
 "editFieldsInfo": null,
 "ownershipBasedAccessControlForRasters": null,
 "allowComputeTiePoints": false,
 "useStandardizedQueries": true,
 "advancedQueryCapabilities": {
  "useStandardizedQueries": true,
  "supportsStatistics": false,
  "supportsOrderBy": false,
  "supportsDistinct": false,
  "supportsPagination": false
 },
 "spatialReference": {
  "wkid": 26915,
  "latestWkid": 26915
 },
 "resampling": false
}
