View In:
ArcGIS JavaScript
ArcGIS Online Map Viewer
ArcGIS Earth
Service Description: Boone County, Missouri contracted with Surdex Corporation to collect detailed ground elevation data from Aerial LiDAR Sensors for approximately 750 Square Miles to update the county's DEM database. The county required 0.7-meter nominal point spacing (USGS Level 2) high-resolution digital elevation data developed from Aerial LiDAR collection. These data will be used to generate digital elevation models and contours for use in hydraulic/hydrologic models and other purposes to include conservation planning activities and environmental assessments. This classified LAS Data was created from the final controled swath data.
Complete metadata can be found here: https://prd-tnm.s3.amazonaws.com/index.html?prefix=StagedProducts/Elevation/metadata/Boone_County_Lidar/MO_BooneCo_2015
Name: Boone_2023_UTM
Description: Boone County, Missouri contracted with Surdex Corporation to collect detailed ground elevation data from Aerial LiDAR Sensors for approximately 750 Square Miles to update the county's DEM database. The county required 0.7-meter nominal point spacing (USGS Level 2) high-resolution digital elevation data developed from Aerial LiDAR collection. These data will be used to generate digital elevation models and contours for use in hydraulic/hydrologic models and other purposes to include conservation planning activities and environmental assessments. This classified LAS Data was created from the final controled swath data.
Complete metadata can be found here: https://prd-tnm.s3.amazonaws.com/index.html?prefix=StagedProducts/Elevation/metadata/Boone_County_Lidar/MO_BooneCo_2015
Single Fused Map Cache: false
Extent:
XMin: 1620200.0
YMin: 1020800.0
XMax: 1752700.0
YMax: 1245800.0
Spatial Reference: 0
(0)
LatestVCSWkid(0)
Initial Extent:
XMin: 1620200.0
YMin: 1020800.0
XMax: 1752700.0
YMax: 1245800.0
Spatial Reference: 0
(0)
LatestVCSWkid(0)
Full Extent:
XMin: 1620200.0
YMin: 1020800.0
XMax: 1752700.0
YMax: 1245800.0
Spatial Reference: 0
(0)
LatestVCSWkid(0)
Pixel Size X: 1.0
Pixel Size Y: 1.0
Band Count: 1
Pixel Type: F32
RasterFunction Infos: {"rasterFunctionInfos": [{
"name": "None",
"description": "",
"help": ""
}]}
Mensuration Capabilities: Basic
Inspection Capabilities:
Has Histograms: true
Has Colormap: false
Has Multi Dimensions : false
Rendering Rule:
Min Scale: 0
Max Scale: 0
Resampling: false
Copyright Text:
Service Data Type: esriImageServiceDataTypeGeneric
Min Values: 456.56201171875
Max Values: 952.2009887695312
Mean Values: 772.9569288915887
Standard Deviation Values: 94.54053289748805
Object ID Field:
Fields:
None
Default Mosaic Method: Center
Allowed Mosaic Methods:
SortField:
SortValue: null
Mosaic Operator: First
Default Compression Quality: 75
Default Resampling Method: Bilinear
Max Record Count: null
Max Image Height: 4100
Max Image Width: 15000
Max Download Image Count: null
Max Mosaic Image Count: null
Allow Raster Function: true
Allow Copy: true
Allow Analysis: true
Allow Compute TiePoints: false
Supports Statistics: false
Supports Advanced Queries: false
Use StandardizedQueries: true
Raster Type Infos:
Name: Raster Dataset
Description: Supports all ArcGIS Raster Datasets
Help:
Has Raster Attribute Table: false
Edit Fields Info: null
Ownership Based AccessControl For Rasters: null
Child Resources:
Info
Histograms
Statistics
Key Properties
Legend
Raster Function Infos
Supported Operations:
Export Image
Identify
Measure
Compute Histograms
Compute Statistics Histograms
Get Samples
Compute Class Statistics
Query Boundary
Compute Pixel Location
Compute Angles
Validate
Project