View In:
ArcGIS JavaScript
ArcGIS Online Map Viewer
ArcGIS Earth
Service Description: These are Digital Elevation Model (DEM) data for Missouri as part of the required deliverables for the MO_FEMANRCS_2020_D20, Work Unit 191884 project. Class 2 (ground) LiDAR points in conjunction with the hydro breaklines were used to create a 1-meter hydro-flattened Raster DEM. Geographic Extent: 36 counties in Missouri, covering approximately 4028 total square miles. Dataset Description: The MO_FEMANRCS_2020_D20, Work Unit 191884 project called for the planning, acquisition, processing, and derivative products of lidar data to be collected at a nominal pulse spacing (NPS) of 0.71 meters. Project specifications are based on the U.S. Geological Survey National Geospatial Program Base LiDAR Specification, Version 2.1. The data were developed based on a horizontal projection/datum of NAD 1983 2011 UTM Zone 15N, Meter and vertical datum of NAVD88 Geoid 18, Meter. LiDAR data were delivered as processed Classified LAS 1.4 files formatted to 5019 individual 1500 m x 1500 m tiles, as tiled intensity imagery, and as tiled bare earth DEMs; all tiled to the same 1500 m x 1500 m schema. Continuous breaklines were produced in Esri file geodatabase format. Ground Conditions: LiDAR was collected in spring and fall 2020, while no snow was on the ground and rivers were at or below normal levels.
Complete metadata available at : https://prd-tnm.s3.amazonaws.com/index.html?prefix=StagedProducts/Elevation/metadata/MO_FEMANRCS_2020_D20/
Name: MO_FEMANRCS_2020_D20_UTM
Description: These are Digital Elevation Model (DEM) data for Missouri as part of the required deliverables for the MO_FEMANRCS_2020_D20, Work Unit 191884 project. Class 2 (ground) LiDAR points in conjunction with the hydro breaklines were used to create a 1-meter hydro-flattened Raster DEM. Geographic Extent: 36 counties in Missouri, covering approximately 4028 total square miles. Dataset Description: The MO_FEMANRCS_2020_D20, Work Unit 191884 project called for the planning, acquisition, processing, and derivative products of lidar data to be collected at a nominal pulse spacing (NPS) of 0.71 meters. Project specifications are based on the U.S. Geological Survey National Geospatial Program Base LiDAR Specification, Version 2.1. The data were developed based on a horizontal projection/datum of NAD 1983 2011 UTM Zone 15N, Meter and vertical datum of NAVD88 Geoid 18, Meter. LiDAR data were delivered as processed Classified LAS 1.4 files formatted to 5019 individual 1500 m x 1500 m tiles, as tiled intensity imagery, and as tiled bare earth DEMs; all tiled to the same 1500 m x 1500 m schema. Continuous breaklines were produced in Esri file geodatabase format. Ground Conditions: LiDAR was collected in spring and fall 2020, while no snow was on the ground and rivers were at or below normal levels.
Complete metadata available at : https://prd-tnm.s3.amazonaws.com/index.html?prefix=StagedProducts/Elevation/metadata/MO_FEMANRCS_2020_D20/
Single Fused Map Cache: false
Extent:
XMin: 309993.99998447526
YMin: 4029994.0003374275
XMax: 834399.9999844723
YMax: 4500006.000337425
Spatial Reference: 26915
(26915)
LatestVCSWkid(0)
Initial Extent:
XMin: 309993.99998447526
YMin: 4029994.0003374275
XMax: 834399.9999844723
YMax: 4500006.000337425
Spatial Reference: 26915
(26915)
LatestVCSWkid(0)
Full Extent:
XMin: 309993.99998447526
YMin: 4029994.0003374275
XMax: 834399.9999844723
YMax: 4500006.000337425
Spatial Reference: 26915
(26915)
LatestVCSWkid(0)
Pixel Size X: 0.9999999999999942
Pixel Size Y: 0.999999999999994
Band Count: 1
Pixel Type: F32
RasterFunction Infos: {"rasterFunctionInfos": [{
"name": "None",
"description": "",
"help": ""
}]}
Mensuration Capabilities: None
Inspection Capabilities:
Has Histograms: true
Has Colormap: false
Has Multi Dimensions : false
Rendering Rule:
Min Scale: 0
Max Scale: 0
Resampling: false
Copyright Text:
Service Data Type: esriImageServiceDataTypeGeneric
Min Values: 90.71682739257812
Max Values: 460.208251953125
Mean Values: 258.7837309463853
Standard Deviation Values: 54.349709617115906
Object ID Field: OBJECTID
Fields:
-
OBJECTID
(
type: esriFieldTypeOID, alias: OBJECTID
)
-
Shape
(
type: esriFieldTypeGeometry, alias: Shape
)
-
Name
(
type: esriFieldTypeString, alias: Name, length: 200
)
-
MinPS
(
type: esriFieldTypeDouble, alias: MinPS
)
-
MaxPS
(
type: esriFieldTypeDouble, alias: MaxPS
)
-
LowPS
(
type: esriFieldTypeDouble, alias: LowPS
)
-
HighPS
(
type: esriFieldTypeDouble, alias: HighPS
)
-
Category
(
type: esriFieldTypeInteger, alias: Category
, Coded Values:
[0: Unknown]
, [1: Primary]
, [2: Overview]
, ...6 more...
)
-
Tag
(
type: esriFieldTypeString, alias: Tag, length: 100
)
-
GroupName
(
type: esriFieldTypeString, alias: GroupName, length: 100
)
-
ProductName
(
type: esriFieldTypeString, alias: ProductName, length: 100
)
-
CenterX
(
type: esriFieldTypeDouble, alias: CenterX
)
-
CenterY
(
type: esriFieldTypeDouble, alias: CenterY
)
-
ZOrder
(
type: esriFieldTypeInteger, alias: ZOrder
)
-
Shape_Length
(
type: esriFieldTypeDouble, alias: Shape_Length
)
-
Shape_Area
(
type: esriFieldTypeDouble, alias: Shape_Area
)
Default Mosaic Method: Northwest
Allowed Mosaic Methods: NorthWest,Center,LockRaster,ByAttribute,Nadir,Viewpoint,Seamline,None
SortField:
SortValue: null
Mosaic Operator: First
Default Compression Quality: 75
Default Resampling Method: Bilinear
Max Record Count: 1000
Max Image Height: 4100
Max Image Width: 15000
Max Download Image Count: 20
Max Mosaic Image Count: 20
Allow Raster Function: true
Allow Copy: true
Allow Analysis: true
Allow Compute TiePoints: false
Supports Statistics: true
Supports Advanced Queries: true
Use StandardizedQueries: true
Raster Type Infos:
Name: Raster Dataset
Description: Supports all ArcGIS Raster Datasets
Help:
Has Raster Attribute Table: false
Edit Fields Info: null
Ownership Based AccessControl For Rasters: null
Child Resources:
Info
Histograms
Statistics
Key Properties
Legend
Raster Function Infos
Supported Operations:
Export Image
Query
Identify
Download Rasters
Get Image Url
Compute Histograms
Compute Statistics Histograms
Get Samples
Compute Class Statistics
Query GPS Info
Find Images
Image to Map
Map to Image
Measure from Image
Image to Map Multiray
Query Boundary
Compute Pixel Location
Compute Angles
Validate
Project