View In:
ArcGIS JavaScript
ArcGIS Online Map Viewer
ArcGIS Earth
Service Description: MSJV was awarded the 140G0224F0114-MO_SE11County_B24 Task Order by the United States Geologic Survey (USGS) to provide a spring 2024 leaf-on lidar survey collected over an Area of Interest (AOI) of approximately 7,321 square miles in southeast Missouri including all or portions of Bollinger, Butler, Cape Girardeau, Dunklin, Mississippi, New Madrid, Pemiscot, Ripley, Scott, Stoddard, Wayne counties. This project will support the Missouri GIS Advisory Council and a variety of local, state, and federal initiatives, including the 3DEP mission. The QL1 lidar data collected for this project will assist with detailed analysis, monitoring, and mapping of various ecological metrics, including streams/rivers, wetlands, forests, grasslands, agriculture, natural communities, invasive species impacts, and other stakeholder applications.
Complete metadata available at : https://prd-tnm.s3.amazonaws.com/index.html?prefix=StagedProducts/Elevation/metadata/MO_SE11County_B24/
Name: MO_Southeast11Counties_2024_B24_DEM_UTM
Description: MSJV was awarded the 140G0224F0114-MO_SE11County_B24 Task Order by the United States Geologic Survey (USGS) to provide a spring 2024 leaf-on lidar survey collected over an Area of Interest (AOI) of approximately 7,321 square miles in southeast Missouri including all or portions of Bollinger, Butler, Cape Girardeau, Dunklin, Mississippi, New Madrid, Pemiscot, Ripley, Scott, Stoddard, Wayne counties. This project will support the Missouri GIS Advisory Council and a variety of local, state, and federal initiatives, including the 3DEP mission. The QL1 lidar data collected for this project will assist with detailed analysis, monitoring, and mapping of various ecological metrics, including streams/rivers, wetlands, forests, grasslands, agriculture, natural communities, invasive species impacts, and other stakeholder applications.
Complete metadata available at : https://prd-tnm.s3.amazonaws.com/index.html?prefix=StagedProducts/Elevation/metadata/MO_SE11County_B24/
Single Fused Map Cache: false
Extent:
XMin: 667000.0
YMin: 3983500.0
XMax: 850000.0
YMax: 4168000.0
Spatial Reference: 102384
(6344)
VCSWkid(5703)
LatestVCSWkid(5703)
Initial Extent:
XMin: 667000.0
YMin: 3983500.0
XMax: 850000.0
YMax: 4168000.0
Spatial Reference: 102384
(6344)
VCSWkid(5703)
LatestVCSWkid(5703)
Full Extent:
XMin: 667000.0
YMin: 3983500.0
XMax: 850000.0
YMax: 4168000.0
Spatial Reference: 102384
(6344)
VCSWkid(5703)
LatestVCSWkid(5703)
Pixel Size X: 0.5
Pixel Size Y: 0.5
Band Count: 1
Pixel Type: F32
RasterFunction Infos: {"rasterFunctionInfos": [{
"name": "None",
"description": "",
"help": ""
}]}
Mensuration Capabilities: None
Inspection Capabilities:
Has Histograms: true
Has Colormap: false
Has Multi Dimensions : false
Rendering Rule:
Min Scale: 0
Max Scale: 0
Resampling: false
Copyright Text:
Service Data Type: esriImageServiceDataTypeGeneric
Min Values: 1.217052936553955
Max Values: 434.03607177734375
Mean Values: 121.28748842430568
Standard Deviation Values: 45.08691199343048
Object ID Field: OBJECTID
Fields:
-
OBJECTID
(
type: esriFieldTypeOID, alias: OBJECTID
)
-
Shape
(
type: esriFieldTypeGeometry, alias: Shape
)
-
Name
(
type: esriFieldTypeString, alias: Name, length: 200
)
-
MinPS
(
type: esriFieldTypeDouble, alias: MinPS
)
-
MaxPS
(
type: esriFieldTypeDouble, alias: MaxPS
)
-
LowPS
(
type: esriFieldTypeDouble, alias: LowPS
)
-
HighPS
(
type: esriFieldTypeDouble, alias: HighPS
)
-
Category
(
type: esriFieldTypeInteger, alias: Category
, Coded Values:
[0: Unknown]
, [1: Primary]
, [2: Overview]
, ...6 more...
)
-
Tag
(
type: esriFieldTypeString, alias: Tag, length: 100
)
-
GroupName
(
type: esriFieldTypeString, alias: GroupName, length: 100
)
-
ProductName
(
type: esriFieldTypeString, alias: ProductName, length: 100
)
-
CenterX
(
type: esriFieldTypeDouble, alias: CenterX
)
-
CenterY
(
type: esriFieldTypeDouble, alias: CenterY
)
-
ZOrder
(
type: esriFieldTypeInteger, alias: ZOrder
)
-
Shape_Length
(
type: esriFieldTypeDouble, alias: Shape_Length
)
-
Shape_Area
(
type: esriFieldTypeDouble, alias: Shape_Area
)
Default Mosaic Method: Northwest
Allowed Mosaic Methods: NorthWest,Center,LockRaster,ByAttribute,Nadir,Viewpoint,Seamline,None
SortField:
SortValue: null
Mosaic Operator: First
Default Compression Quality: 75
Default Resampling Method: Bilinear
Max Record Count: 1000
Max Image Height: 4100
Max Image Width: 15000
Max Download Image Count: 20
Max Mosaic Image Count: 20
Allow Raster Function: true
Allow Copy: true
Allow Analysis: true
Allow Compute TiePoints: false
Supports Statistics: true
Supports Advanced Queries: true
Use StandardizedQueries: true
Raster Type Infos:
Name: Raster Dataset
Description: Supports all ArcGIS Raster Datasets
Help:
Has Raster Attribute Table: false
Edit Fields Info: null
Ownership Based AccessControl For Rasters: null
Child Resources:
Info
Histograms
Statistics
Key Properties
Legend
Raster Function Infos
Supported Operations:
Export Image
Query
Identify
Compute Histograms
Compute Statistics Histograms
Get Samples
Compute Class Statistics
Query GPS Info
Find Images
Image to Map
Map to Image
Measure from Image
Image to Map Multiray
Query Boundary
Compute Pixel Location
Compute Angles
Validate
Project