View In:
ArcGIS JavaScript
ArcGIS Online Map Viewer
ArcGIS Earth
Service Description: The USGS and NRCS contracted Digital Aerial Solutions, LLC to obtain professional services related to the planning, acquisition and development of Light Detection and Ranging (Lidar) data and derivative products. The task order is for a QL2 Lidar survey to be collected over the state of Missouri. The deliverable products would be used by the USGS and NRCS for conservation planning, design, research, floodplain mapping, wetlands identification, dam safety assessments, hydrologic modeling, and other environmental purposes.
Complete metadata available here: https://prd-tnm.s3.amazonaws.com/index.html?prefix=StagedProducts/Elevation/metadata/MO_Southwest_2021_D21/
Name: MO_Southwest_2021_D21_DEM_UTM
Description: The USGS and NRCS contracted Digital Aerial Solutions, LLC to obtain professional services related to the planning, acquisition and development of Light Detection and Ranging (Lidar) data and derivative products. The task order is for a QL2 Lidar survey to be collected over the state of Missouri. The deliverable products would be used by the USGS and NRCS for conservation planning, design, research, floodplain mapping, wetlands identification, dam safety assessments, hydrologic modeling, and other environmental purposes.
Complete metadata available here: https://prd-tnm.s3.amazonaws.com/index.html?prefix=StagedProducts/Elevation/metadata/MO_Southwest_2021_D21/
Single Fused Map Cache: false
Extent:
XMin: 349994.00003055285
YMin: 4029994.000324277
XMax: 480006.00003055285
YMax: 4270006.000324277
Spatial Reference: 26915
(26915)
LatestVCSWkid(0)
Initial Extent:
XMin: 349994.00003055285
YMin: 4029994.000324277
XMax: 480006.00003055285
YMax: 4270006.000324277
Spatial Reference: 26915
(26915)
LatestVCSWkid(0)
Full Extent:
XMin: 349994.00003055285
YMin: 4029994.000324277
XMax: 480006.00003055285
YMax: 4270006.000324277
Spatial Reference: 26915
(26915)
LatestVCSWkid(0)
Pixel Size X: 1.0
Pixel Size Y: 1.0
Band Count: 1
Pixel Type: F32
RasterFunction Infos: {"rasterFunctionInfos": [{
"name": "None",
"description": "",
"help": ""
}]}
Mensuration Capabilities: None
Inspection Capabilities:
Has Histograms: true
Has Colormap: false
Has Multi Dimensions : false
Rendering Rule:
Min Scale: 0
Max Scale: 0
Resampling: false
Copyright Text:
Service Data Type: esriImageServiceDataTypeGeneric
Min Values: 216.19154357910156
Max Values: 463.13616943359375
Mean Values: 305.52907350910584
Standard Deviation Values: 55.983862260535616
Object ID Field: OBJECTID
Fields:
-
OBJECTID
(
type: esriFieldTypeOID, alias: OBJECTID
)
-
Shape
(
type: esriFieldTypeGeometry, alias: Shape
)
-
Name
(
type: esriFieldTypeString, alias: Name, length: 200
)
-
MinPS
(
type: esriFieldTypeDouble, alias: MinPS
)
-
MaxPS
(
type: esriFieldTypeDouble, alias: MaxPS
)
-
LowPS
(
type: esriFieldTypeDouble, alias: LowPS
)
-
HighPS
(
type: esriFieldTypeDouble, alias: HighPS
)
-
Category
(
type: esriFieldTypeInteger, alias: Category
, Coded Values:
[0: Unknown]
, [1: Primary]
, [2: Overview]
, ...6 more...
)
-
Tag
(
type: esriFieldTypeString, alias: Tag, length: 100
)
-
GroupName
(
type: esriFieldTypeString, alias: GroupName, length: 100
)
-
ProductName
(
type: esriFieldTypeString, alias: ProductName, length: 100
)
-
CenterX
(
type: esriFieldTypeDouble, alias: CenterX
)
-
CenterY
(
type: esriFieldTypeDouble, alias: CenterY
)
-
ZOrder
(
type: esriFieldTypeInteger, alias: ZOrder
)
-
Shape_Length
(
type: esriFieldTypeDouble, alias: Shape_Length
)
-
Shape_Area
(
type: esriFieldTypeDouble, alias: Shape_Area
)
Default Mosaic Method: Northwest
Allowed Mosaic Methods: NorthWest,Center,LockRaster,ByAttribute,Nadir,Viewpoint,Seamline,None
SortField:
SortValue: null
Mosaic Operator: First
Default Compression Quality: 75
Default Resampling Method: Bilinear
Max Record Count: 1000
Max Image Height: 4100
Max Image Width: 15000
Max Download Image Count: 20
Max Mosaic Image Count: 20
Allow Raster Function: true
Allow Copy: true
Allow Analysis: true
Allow Compute TiePoints: false
Supports Statistics: true
Supports Advanced Queries: true
Use StandardizedQueries: true
Raster Type Infos:
Name: Raster Dataset
Description: Supports all ArcGIS Raster Datasets
Help:
Has Raster Attribute Table: false
Edit Fields Info: null
Ownership Based AccessControl For Rasters: null
Child Resources:
Info
Histograms
Statistics
Key Properties
Legend
Raster Function Infos
Supported Operations:
Export Image
Query
Identify
Compute Histograms
Compute Statistics Histograms
Get Samples
Compute Class Statistics
Query GPS Info
Find Images
Image to Map
Map to Image
Measure from Image
Image to Map Multiray
Query Boundary
Compute Pixel Location
Compute Angles
Validate
Project