View In:
ArcGIS JavaScript
ArcGIS Online Map Viewer
ArcGIS Earth
Service Description: USGS Task Order MO_Saint Louis Lidar_2017_B17 (USGS Task Order Number G17PD00237). This task is for a high resolution data set of lidar covering approximately 626 square miles located in St. Louis, Missouri. The lidar data was acquired and processed in compliance with U.S. Geological Survey National Geospatial Program Lidar Base Specification version 1.2. This task required the lidar data to be collected at a nominal pulse spacing (NPS) of 0.71 meters (QL2). The data was delivered in NAD 1983(2011)UTM Zone 15N, NAVD88 Geoid12B, meters. Final products include: LAS Swath data ASPRS 1.4, classified LAS tiles ASPRS 1.4, bare-earth DEM raster tiles in Erdas IMG format, Intensity raster tiles in Erdas IMG format and hydro-flattened breaklines projectwide in ESRI format. Tiled deliverable products conform to 1,500m x 1,500m tiling scheme. LiDAR-only acquisition LiDAR checkpoints / calibration control LiDAR post-processing LiDAR classification (ASPRS LAS 1.4) Hydro-flattening breakline collection Sensor Optech Galaxy Deliverables: Deliverables Minimum standards as outlined in Task Order G17PD00237 Raw LiDAR point cloud Fully compliant ASPRS LAS 1.4, point record format 6, 7, 9 or 10 Calibrated By swath Intensity values normalized to 16-bit FGDC-compliant metadata Classified LiDAR point cloud Fully compliant ASPRS LAS 1.4, point record format 6, 7, 9 or 10 By tile Intensity values normalized to 16-bit FGDC-compliant metadata Bare-earth DEM 1m cell size 32-bit DEM development in ERDAS IMG format Bare-earth (hydro-flattened) Culverts will not be removed from the DEMs Bridges will be removed from the DEMs By tile Hydro-flattened breaklines Project-wide Esri feature class(es) for insertion into file geodatabase FGDC-compliant metadata Intensity Images 1m cell size in ERDAS IMG format By tile FGDC-compliant metadata Control Survey report Esri shapefile format FGDC-compliant metadata (project level) Detailed LiDAR Mapping / Project Report
Complete metadata available here : https://prd-tnm.s3.amazonaws.com/index.html?prefix=StagedProducts/Elevation/metadata/MO__Saint_Louis_Lidar_2017_B17/
Name: StLouis_2017_UTM
Description: USGS Task Order MO_Saint Louis Lidar_2017_B17 (USGS Task Order Number G17PD00237). This task is for a high resolution data set of lidar covering approximately 626 square miles located in St. Louis, Missouri. The lidar data was acquired and processed in compliance with U.S. Geological Survey National Geospatial Program Lidar Base Specification version 1.2. This task required the lidar data to be collected at a nominal pulse spacing (NPS) of 0.71 meters (QL2). The data was delivered in NAD 1983(2011)UTM Zone 15N, NAVD88 Geoid12B, meters. Final products include: LAS Swath data ASPRS 1.4, classified LAS tiles ASPRS 1.4, bare-earth DEM raster tiles in Erdas IMG format, Intensity raster tiles in Erdas IMG format and hydro-flattened breaklines projectwide in ESRI format. Tiled deliverable products conform to 1,500m x 1,500m tiling scheme. LiDAR-only acquisition LiDAR checkpoints / calibration control LiDAR post-processing LiDAR classification (ASPRS LAS 1.4) Hydro-flattening breakline collection Sensor Optech Galaxy Deliverables: Deliverables Minimum standards as outlined in Task Order G17PD00237 Raw LiDAR point cloud Fully compliant ASPRS LAS 1.4, point record format 6, 7, 9 or 10 Calibrated By swath Intensity values normalized to 16-bit FGDC-compliant metadata Classified LiDAR point cloud Fully compliant ASPRS LAS 1.4, point record format 6, 7, 9 or 10 By tile Intensity values normalized to 16-bit FGDC-compliant metadata Bare-earth DEM 1m cell size 32-bit DEM development in ERDAS IMG format Bare-earth (hydro-flattened) Culverts will not be removed from the DEMs Bridges will be removed from the DEMs By tile Hydro-flattened breaklines Project-wide Esri feature class(es) for insertion into file geodatabase FGDC-compliant metadata Intensity Images 1m cell size in ERDAS IMG format By tile FGDC-compliant metadata Control Survey report Esri shapefile format FGDC-compliant metadata (project level) Detailed LiDAR Mapping / Project Report
Complete metadata available here : https://prd-tnm.s3.amazonaws.com/index.html?prefix=StagedProducts/Elevation/metadata/MO__Saint_Louis_Lidar_2017_B17/
Single Fused Map Cache: false
Extent:
XMin: 686493.4
YMin: 4244140.250998173
XMax: 763423.4
YMax: 4315942.250998173
Spatial Reference: 26915
(26915)
LatestVCSWkid(0)
Initial Extent:
XMin: 686493.4
YMin: 4244140.250998173
XMax: 763423.4
YMax: 4315942.250998173
Spatial Reference: 26915
(26915)
LatestVCSWkid(0)
Full Extent:
XMin: 686493.4
YMin: 4244140.250998173
XMax: 763423.4
YMax: 4315942.250998173
Spatial Reference: 26915
(26915)
LatestVCSWkid(0)
Pixel Size X: 1.0
Pixel Size Y: 1.0
Band Count: 1
Pixel Type: F32
RasterFunction Infos: {"rasterFunctionInfos": [{
"name": "None",
"description": "",
"help": ""
}]}
Mensuration Capabilities: Basic
Inspection Capabilities:
Has Histograms: true
Has Colormap: false
Has Multi Dimensions : false
Rendering Rule:
Min Scale: 0
Max Scale: 0
Resampling: false
Copyright Text:
Service Data Type: esriImageServiceDataTypeGeneric
Min Values: 0
Max Values: 249.07952880859375
Mean Values: 159.50134692603405
Standard Deviation Values: 24.17984689146822
Object ID Field:
Fields:
None
Default Mosaic Method: Center
Allowed Mosaic Methods:
SortField:
SortValue: null
Mosaic Operator: First
Default Compression Quality: 75
Default Resampling Method: Bilinear
Max Record Count: null
Max Image Height: 4100
Max Image Width: 15000
Max Download Image Count: null
Max Mosaic Image Count: null
Allow Raster Function: true
Allow Copy: true
Allow Analysis: true
Allow Compute TiePoints: false
Supports Statistics: false
Supports Advanced Queries: false
Use StandardizedQueries: true
Raster Type Infos:
Name: Raster Dataset
Description: Supports all ArcGIS Raster Datasets
Help:
Has Raster Attribute Table: false
Edit Fields Info: null
Ownership Based AccessControl For Rasters: null
Child Resources:
Info
Histograms
Statistics
Key Properties
Legend
Raster Function Infos
Supported Operations:
Export Image
Identify
Measure
Compute Histograms
Compute Statistics Histograms
Get Samples
Compute Class Statistics
Query Boundary
Compute Pixel Location
Compute Angles
Validate
Project