View In:
ArcGIS JavaScript
ArcGIS Online Map Viewer
ArcGIS Earth
Service Description: This lidar data set includes unclassified swath LAS 1.4 files, classified LAS 1.4 files, hydro-flattened digital elevation models (DEMs), hydro and bridge breaklines, and intensity imagery. Geographic Extent: The AOI includes 7 counties in Southern Missouri, covering approximately 3734 total square miles. Dataset Description: The Missouri 2017 LiDAR - Delivery 4 project called for the planning, acquisition, processing, and derivative products of lidar data to be collected at a nominal pulse spacing (NPS) of 0.7 meters. Project specifications are based on the U.S. Geological Survey National Geospatial Program Base LiDAR Specification, Version 1.2. The data were developed based on a horizontal projection/datum of NAD 1983 (2011), UTM Zone 15N, meters and vertical datum of NAVD 1988 (GEOID 12B), meters. LiDAR data were delivered as processed Classified LAS 1.4 files formatted to 4428 individual 1,500-meter x 1,500-meter tiles, as tiled intensity imagery, and as tiled bare earth DEMs; all tiled to the same 1,500-meter x 1,500-meter schema. Continuous breaklines were produced in Esri file geodatabase format. Ground Conditions: LiDAR was collected in winter of 2017/2018 and spring of 2018, while no snow was on the ground and rivers were at or below normal levels. In order to post process the LiDAR data to meet task order specifications and meet ASPRS vertical accuracy guidelines, Quantum Spatial, Inc. utilized a total of 231 ground control points that were used to calibrate the LiDAR to known ground locations established throughout the project area. An additional 380 independent accuracy checkpoints, 224 in Bare Earth and Urban landcovers (224 NVA points), 156 in Tall Weeds categories (156 VVA points), were used to assess the vertical accuracy of the data. These checkpoints were not used to calibrate or post process the data.
Complete metadata available at : https://prd-tnm.s3.amazonaws.com/index.html?prefix=StagedProducts/Elevation/metadata/MO_FEMA_R7_North_2017_D18/
Name: FEMANorth_2017_UTM
Description: This lidar data set includes unclassified swath LAS 1.4 files, classified LAS 1.4 files, hydro-flattened digital elevation models (DEMs), hydro and bridge breaklines, and intensity imagery. Geographic Extent: The AOI includes 7 counties in Southern Missouri, covering approximately 3734 total square miles. Dataset Description: The Missouri 2017 LiDAR - Delivery 4 project called for the planning, acquisition, processing, and derivative products of lidar data to be collected at a nominal pulse spacing (NPS) of 0.7 meters. Project specifications are based on the U.S. Geological Survey National Geospatial Program Base LiDAR Specification, Version 1.2. The data were developed based on a horizontal projection/datum of NAD 1983 (2011), UTM Zone 15N, meters and vertical datum of NAVD 1988 (GEOID 12B), meters. LiDAR data were delivered as processed Classified LAS 1.4 files formatted to 4428 individual 1,500-meter x 1,500-meter tiles, as tiled intensity imagery, and as tiled bare earth DEMs; all tiled to the same 1,500-meter x 1,500-meter schema. Continuous breaklines were produced in Esri file geodatabase format. Ground Conditions: LiDAR was collected in winter of 2017/2018 and spring of 2018, while no snow was on the ground and rivers were at or below normal levels. In order to post process the LiDAR data to meet task order specifications and meet ASPRS vertical accuracy guidelines, Quantum Spatial, Inc. utilized a total of 231 ground control points that were used to calibrate the LiDAR to known ground locations established throughout the project area. An additional 380 independent accuracy checkpoints, 224 in Bare Earth and Urban landcovers (224 NVA points), 156 in Tall Weeds categories (156 VVA points), were used to assess the vertical accuracy of the data. These checkpoints were not used to calibrate or post process the data.
Complete metadata available at : https://prd-tnm.s3.amazonaws.com/index.html?prefix=StagedProducts/Elevation/metadata/MO_FEMA_R7_North_2017_D18/
Single Fused Map Cache: false
Extent:
XMin: 444000.0
YMin: 4075500.0
XMax: 754500.0
YMax: 4287000.0
Spatial Reference: 102384
(6344)
LatestVCSWkid(0)
Initial Extent:
XMin: 444000.0
YMin: 4075500.0
XMax: 754500.0
YMax: 4287000.0
Spatial Reference: 102384
(6344)
LatestVCSWkid(0)
Full Extent:
XMin: 444000.0
YMin: 4075500.0
XMax: 754500.0
YMax: 4287000.0
Spatial Reference: 102384
(6344)
LatestVCSWkid(0)
Pixel Size X: 1.0
Pixel Size Y: 1.0
Band Count: 1
Pixel Type: F32
RasterFunction Infos: {"rasterFunctionInfos": [{
"name": "None",
"description": "",
"help": ""
}]}
Mensuration Capabilities: Basic
Inspection Capabilities:
Has Histograms: true
Has Colormap: false
Has Multi Dimensions : false
Rendering Rule:
Min Scale: 0
Max Scale: 0
Resampling: false
Copyright Text:
Service Data Type: esriImageServiceDataTypeGeneric
Min Values: 119.20475769042969
Max Values: 540.0241088867188
Mean Values: 299.44369913447633
Standard Deviation Values: 59.782480670078826
Object ID Field:
Fields:
None
Default Mosaic Method: Center
Allowed Mosaic Methods:
SortField:
SortValue: null
Mosaic Operator: First
Default Compression Quality: 75
Default Resampling Method: Bilinear
Max Record Count: null
Max Image Height: 4100
Max Image Width: 15000
Max Download Image Count: null
Max Mosaic Image Count: null
Allow Raster Function: true
Allow Copy: true
Allow Analysis: true
Allow Compute TiePoints: false
Supports Statistics: false
Supports Advanced Queries: false
Use StandardizedQueries: true
Raster Type Infos:
Name: Raster Dataset
Description: Supports all ArcGIS Raster Datasets
Help:
Has Raster Attribute Table: false
Edit Fields Info: null
Ownership Based AccessControl For Rasters: null
Child Resources:
Info
Histograms
Statistics
Key Properties
Legend
Raster Function Infos
Supported Operations:
Export Image
Identify
Measure
Compute Histograms
Compute Statistics Histograms
Get Samples
Compute Class Statistics
Query Boundary
Compute Pixel Location
Compute Angles
Validate
Project