View In:
ArcGIS JavaScript
ArcGIS Online Map Viewer
ArcGIS Earth
Service Description: This task order is for Planning, Acquisition, processing, and derivative products of lidar data to be collected at an aggregate nominal pulse spacing (ANPS) of 0.7 meters, including overlap. Lidar data and derivative products produced in compliance with this task order are based on the r Base Specification Version 1.2, which are incorporated by reference to this task order. This task order requests fall/winter 2017/18 LiDAR surveys to be collected over 8 counties in south Missouri. The 8 counties are: Barry, Douglas, Howell, McDonald, Oregon, Ozark, Webster, and Wright. This AOI covers approximately 5,715 square miles. This project will require hydro-flattening. Data set Description: This data set consists of LiDAR point cloud LAS swath files and tiled Las files. Each LAS file contains LiDAR point information, which has been calibrated, controlled, and classified. Each file represents a separate swath of LiDAR. Ground Conditions: water at normal levels; no unusual inundation; no snow; leaf off How the Withheld Points are Identified: Withheld (ignore) points were identified in the files using the standard LAS Withheld bit. Class Code:1 Class Item:Undetermined/Unclassified Class Code:2 Class Item:Bare Earth Class Code:7 Class Item:Low Noise Class Code:9 Class Item:Water Class Code:10 Class Item:Rail (Breakline buffer) Class Code:17 Class Item:Bridges Class Code:18 Class Item:High Noise This project will support the FEMA Risk MAP program. The primary purpose of the lidar survey was to establish measurements of the bare earth surface, as well as top surface feature data for providing geometric inputs for modeling, other numerical modeling and economic related assessments.
Complete metadata available at : https://prd-tnm.s3.amazonaws.com/index.html?prefix=StagedProducts/Elevation/metadata/MO_FEMA_R7_South_2017_D18/
Name: MO_FEMASouth_2017_D18_DEM_UTM
Description: This task order is for Planning, Acquisition, processing, and derivative products of lidar data to be collected at an aggregate nominal pulse spacing (ANPS) of 0.7 meters, including overlap. Lidar data and derivative products produced in compliance with this task order are based on the r Base Specification Version 1.2, which are incorporated by reference to this task order. This task order requests fall/winter 2017/18 LiDAR surveys to be collected over 8 counties in south Missouri. The 8 counties are: Barry, Douglas, Howell, McDonald, Oregon, Ozark, Webster, and Wright. This AOI covers approximately 5,715 square miles. This project will require hydro-flattening. Data set Description: This data set consists of LiDAR point cloud LAS swath files and tiled Las files. Each LAS file contains LiDAR point information, which has been calibrated, controlled, and classified. Each file represents a separate swath of LiDAR. Ground Conditions: water at normal levels; no unusual inundation; no snow; leaf off How the Withheld Points are Identified: Withheld (ignore) points were identified in the files using the standard LAS Withheld bit. Class Code:1 Class Item:Undetermined/Unclassified Class Code:2 Class Item:Bare Earth Class Code:7 Class Item:Low Noise Class Code:9 Class Item:Water Class Code:10 Class Item:Rail (Breakline buffer) Class Code:17 Class Item:Bridges Class Code:18 Class Item:High Noise This project will support the FEMA Risk MAP program. The primary purpose of the lidar survey was to establish measurements of the bare earth surface, as well as top surface feature data for providing geometric inputs for modeling, other numerical modeling and economic related assessments.
Complete metadata available at : https://prd-tnm.s3.amazonaws.com/index.html?prefix=StagedProducts/Elevation/metadata/MO_FEMA_R7_South_2017_D18/
Single Fused Map Cache: false
Extent:
XMin: 355009.0
YMin: 4039071.3242496895
XMax: 668147.7325233375
YMax: 4149050.0
Spatial Reference: 26915
(26915)
LatestVCSWkid(0)
Initial Extent:
XMin: 355009.0
YMin: 4039071.3242496895
XMax: 668147.7325233375
YMax: 4149050.0
Spatial Reference: 26915
(26915)
LatestVCSWkid(0)
Full Extent:
XMin: 355009.0
YMin: 4039071.3242496895
XMax: 668147.7325233375
YMax: 4149050.0
Spatial Reference: 26915
(26915)
LatestVCSWkid(0)
Pixel Size X: 0.9978195751214458
Pixel Size Y: 0.9978195751214449
Band Count: 1
Pixel Type: F32
RasterFunction Infos: {"rasterFunctionInfos": [{
"name": "None",
"description": "",
"help": ""
}]}
Mensuration Capabilities: None
Inspection Capabilities:
Has Histograms: true
Has Colormap: false
Has Multi Dimensions : false
Rendering Rule:
Min Scale: 0
Max Scale: 0
Resampling: false
Copyright Text:
Service Data Type: esriImageServiceDataTypeGeneric
Min Values: 108.7577896118164
Max Values: 529.1600952148438
Mean Values: 339.67422689848473
Standard Deviation Values: 75.41054839745868
Object ID Field: OBJECTID
Fields:
-
OBJECTID
(
type: esriFieldTypeOID, alias: OBJECTID
)
-
Shape
(
type: esriFieldTypeGeometry, alias: Shape
)
-
Name
(
type: esriFieldTypeString, alias: Name, length: 200
)
-
MinPS
(
type: esriFieldTypeDouble, alias: MinPS
)
-
MaxPS
(
type: esriFieldTypeDouble, alias: MaxPS
)
-
LowPS
(
type: esriFieldTypeDouble, alias: LowPS
)
-
HighPS
(
type: esriFieldTypeDouble, alias: HighPS
)
-
Category
(
type: esriFieldTypeInteger, alias: Category
, Coded Values:
[0: Unknown]
, [1: Primary]
, [2: Overview]
, ...6 more...
)
-
Tag
(
type: esriFieldTypeString, alias: Tag, length: 100
)
-
GroupName
(
type: esriFieldTypeString, alias: GroupName, length: 100
)
-
ProductName
(
type: esriFieldTypeString, alias: ProductName, length: 100
)
-
CenterX
(
type: esriFieldTypeDouble, alias: CenterX
)
-
CenterY
(
type: esriFieldTypeDouble, alias: CenterY
)
-
ZOrder
(
type: esriFieldTypeInteger, alias: ZOrder
)
-
Shape_Length
(
type: esriFieldTypeDouble, alias: Shape_Length
)
-
Shape_Area
(
type: esriFieldTypeDouble, alias: Shape_Area
)
Default Mosaic Method: Northwest
Allowed Mosaic Methods: NorthWest,Center,LockRaster,ByAttribute,Nadir,Viewpoint,Seamline,None
SortField:
SortValue: null
Mosaic Operator: First
Default Compression Quality: 75
Default Resampling Method: Bilinear
Max Record Count: 1000
Max Image Height: 4100
Max Image Width: 15000
Max Download Image Count: 20
Max Mosaic Image Count: 20
Allow Raster Function: true
Allow Copy: true
Allow Analysis: true
Allow Compute TiePoints: false
Supports Statistics: true
Supports Advanced Queries: true
Use StandardizedQueries: true
Raster Type Infos:
Name: Raster Dataset
Description: Supports all ArcGIS Raster Datasets
Help:
Has Raster Attribute Table: false
Edit Fields Info: null
Ownership Based AccessControl For Rasters: null
Child Resources:
Info
Histograms
Statistics
Key Properties
Legend
Raster Function Infos
Supported Operations:
Export Image
Query
Identify
Compute Histograms
Compute Statistics Histograms
Get Samples
Compute Class Statistics
Query GPS Info
Find Images
Image to Map
Map to Image
Measure from Image
Image to Map Multiray
Query Boundary
Compute Pixel Location
Compute Angles
Validate
Project